BEGIN:VCALENDAR
PRODID:-//Sri Lanka Promotions//NONSGML v1.0//EN
VERSION:2.0
CALSCALE:GREGORIAN
METHOD:PUBLISH
X-WR-CALNAME:Sri Lanka Promotions
X-ORIGINAL-URL:http://srilanka-promotions.com
X-WR-CALDESC:Events for Sri Lanka Promotions
BEGIN:VEVENT
DTSTART:20150804T000000
DTEND:20150930T235900
DTSTAMP:20260421T211529
CREATED:20150804T012858
LAST-MODIFIED:20150831T143505
UID:8484@http://srilanka-promotions.com
SUMMARY:CyberLink PowerDVD & Other Software 5% OFF Coupon Codes 4 Aug - 30 Sep 2015
DESCRIPTION:Get an extra 5% savings selected products such as on PowerDVD, PhotoDirector, PowerDirector, Media Suite and more by using the following coupon codes. For more information, visit [ http://srilanka-promotions.com/computers-accessories-software/cyberlink-powerdvd-other-software-5-off-coupon-codes-4-aug-30-sep-2015-8484/ ]. 
LOCATION:
URL:http://srilanka-promotions.com/computers-accessories-software/cyberlink-powerdvd-other-software-5-off-coupon-codes-4-aug-30-sep-2015-8484/
END:VEVENT
END:VCALENDAR