BEGIN:VCALENDAR
PRODID:-//Sri Lanka Promotions//NONSGML v1.0//EN
VERSION:2.0
CALSCALE:GREGORIAN
METHOD:PUBLISH
X-WR-CALNAME:Sri Lanka Promotions
X-ORIGINAL-URL:http://srilanka-promotions.com
X-WR-CALDESC:Events for Sri Lanka Promotions
BEGIN:VEVENT
DTSTART:20150920T000000
DTEND:20150921T235900
DTSTAMP:20260423T213838
CREATED:20150920T120552
LAST-MODIFIED:20150920T120552
UID:8658@http://srilanka-promotions.com
SUMMARY:CyberLink 55% OFF PowerDVD 15 Ultra Promotion 20 - 21 Sep 2015
DESCRIPTION:Comes with FREE Power2Go 10, a media burning & backup software. Windows 10 does not natively support DVD or Blu-ray playback. PowerDVD has you covered.. For more information, visit [ http://srilanka-promotions.com/computers-accessories-software/cyberlink-55-off-powerdvd-15-ultra-promotion-20-21-sep-2015-8658/ ]. 
LOCATION:
URL:http://srilanka-promotions.com/computers-accessories-software/cyberlink-55-off-powerdvd-15-ultra-promotion-20-21-sep-2015-8658/
END:VEVENT
END:VCALENDAR