BEGIN:VCALENDAR
PRODID:-//Sri Lanka Promotions//NONSGML v1.0//EN
VERSION:2.0
CALSCALE:GREGORIAN
METHOD:PUBLISH
X-WR-CALNAME:Sri Lanka Promotions
X-ORIGINAL-URL:http://srilanka-promotions.com
X-WR-CALDESC:Events for Sri Lanka Promotions
BEGIN:VEVENT
DTSTART:20150927T000000
DTEND:20151025T235900
DTSTAMP:20260419T181450
CREATED:20150927T122500
LAST-MODIFIED:20151003T203120
UID:8690@http://srilanka-promotions.com
SUMMARY:LightInTheBox $5 OFF $50 Spend Storewide Coupon Code 27 Sep - 25 Oct 2015
DESCRIPTION:Get $5 off when you make a minimum purchase of $50.. For more information, visit [ http://srilanka-promotions.com/department-stores/lightinthebox-5-off-50-spend-storewide-coupon-code-27-sep-25-oct-2015-8690/ ]. 
LOCATION:
URL:http://srilanka-promotions.com/department-stores/lightinthebox-5-off-50-spend-storewide-coupon-code-27-sep-25-oct-2015-8690/
END:VEVENT
END:VCALENDAR