BEGIN:VCALENDAR
PRODID:-//Sri Lanka Promotions//NONSGML v1.0//EN
VERSION:2.0
CALSCALE:GREGORIAN
METHOD:PUBLISH
X-WR-CALNAME:Sri Lanka Promotions
X-ORIGINAL-URL:http://srilanka-promotions.com
X-WR-CALDESC:Events for Sri Lanka Promotions
BEGIN:VEVENT
DTSTART:20151001T000000
DTEND:20151001T235900
DTSTAMP:20260424T194220
CREATED:20150930T213732
LAST-MODIFIED:20150930T213732
UID:8734@http://srilanka-promotions.com
SUMMARY:Parallels Desktop 20% Off Promo Coupon Code 1 Oct 2015
DESCRIPTION:Get 20% off the original price when you purchase Parallels Desktop Full License with Subscription (Year 1). For more information, visit [ http://srilanka-promotions.com/computers-accessories-software/parallels-desktop-20-off-promo-coupon-code-1-oct-2015-8734/ ]. 
LOCATION:
URL:http://srilanka-promotions.com/computers-accessories-software/parallels-desktop-20-off-promo-coupon-code-1-oct-2015-8734/
END:VEVENT
END:VCALENDAR