BEGIN:VCALENDAR
PRODID:-//Sri Lanka Promotions//NONSGML v1.0//EN
VERSION:2.0
CALSCALE:GREGORIAN
METHOD:PUBLISH
X-WR-CALNAME:Sri Lanka Promotions
X-ORIGINAL-URL:http://srilanka-promotions.com
X-WR-CALDESC:Events for Sri Lanka Promotions
BEGIN:VEVENT
DTSTART:20151001T000000
DTEND:20151025T235900
DTSTAMP:20260419T181414
CREATED:20150930T213824
LAST-MODIFIED:20150930T213824
UID:8737@http://srilanka-promotions.com
SUMMARY:MiniInTheBox US$2 to US$12 OFF Min US$30 Spend Storewide Coupon Code 1 - 25 Oct 2015
DESCRIPTION:Get up to US$12 OFF when you make a minimum purchase of US$30. FREE *worldwide* shipping.. For more information, visit [ http://srilanka-promotions.com/department-stores/miniinthebox-us2-to-us12-off-min-us30-spend-storewide-coupon-code-1-25-oct-2015-8737/ ]. 
LOCATION:
URL:http://srilanka-promotions.com/department-stores/miniinthebox-us2-to-us12-off-min-us30-spend-storewide-coupon-code-1-25-oct-2015-8737/
END:VEVENT
END:VCALENDAR