BEGIN:VCALENDAR
PRODID:-//Sri Lanka Promotions//NONSGML v1.0//EN
VERSION:2.0
CALSCALE:GREGORIAN
METHOD:PUBLISH
X-WR-CALNAME:Sri Lanka Promotions
X-ORIGINAL-URL:http://srilanka-promotions.com
X-WR-CALDESC:Events for Sri Lanka Promotions
BEGIN:VEVENT
DTSTART:20151003T000000
DTEND:20151006T235900
DTSTAMP:20260423T213225
CREATED:20151003T124523
LAST-MODIFIED:20151003T124523
UID:8760@http://srilanka-promotions.com
SUMMARY:CyberLink Media Suite 13 Ultimate 45% OFF Promotion 3 - 6 Oct 2015
DESCRIPTION:Featuring CyberLink's collection of multi-award winning software, plus powerful mobile apps, Media Suite 13 Ultimate truly is the most complete multimedia software collection.. For more information, visit [ http://srilanka-promotions.com/computers-accessories-software/cyberlink-media-suite-13-ultimate-45-off-promotion-3-6-oct-2015-8760/ ]. 
LOCATION:
URL:http://srilanka-promotions.com/computers-accessories-software/cyberlink-media-suite-13-ultimate-45-off-promotion-3-6-oct-2015-8760/
END:VEVENT
END:VCALENDAR