BEGIN:VCALENDAR
PRODID:-//Sri Lanka Promotions//NONSGML v1.0//EN
VERSION:2.0
CALSCALE:GREGORIAN
METHOD:PUBLISH
X-WR-CALNAME:Sri Lanka Promotions
X-ORIGINAL-URL:http://srilanka-promotions.com
X-WR-CALDESC:Events for Sri Lanka Promotions
BEGIN:VEVENT
DTSTART:20151025T000000
DTEND:20151127T235900
DTSTAMP:20260421T130242
CREATED:20151025T104823
LAST-MODIFIED:20151130T202710
UID:8866@http://srilanka-promotions.com
SUMMARY:Acronis True Image Up to 25% Off Promotion From 25 Oct 2015
DESCRIPTION:Get up to 25% off Acronis True Image 2016 for 3 to 5 computers for a limited time. For more information, visit [ http://srilanka-promotions.com/computers-accessories-software/acronis-true-image-up-to-25-off-promotion-from-25-oct-2015-8866/ ]. 
LOCATION:
URL:http://srilanka-promotions.com/computers-accessories-software/acronis-true-image-up-to-25-off-promotion-from-25-oct-2015-8866/
END:VEVENT
END:VCALENDAR