BEGIN:VCALENDAR
PRODID:-//Sri Lanka Promotions//NONSGML v1.0//EN
VERSION:2.0
CALSCALE:GREGORIAN
METHOD:PUBLISH
X-WR-CALNAME:Sri Lanka Promotions
X-ORIGINAL-URL:http://srilanka-promotions.com
X-WR-CALDESC:Events for Sri Lanka Promotions
BEGIN:VEVENT
DTSTART:20151115T000000
DTEND:20151231T235900
DTSTAMP:20260419T181511
CREATED:20151115T111847
LAST-MODIFIED:20151115T111847
UID:8881@http://srilanka-promotions.com
SUMMARY:LightInTheBox $15 OFF $150 Spend Storewide Coupon Code 15 Nov - 31 Dec 2015
DESCRIPTION:Get $15 off when you make a minimum purchase of $150.. For more information, visit [ http://srilanka-promotions.com/department-stores/lightinthebox-15-off-150-spend-storewide-coupon-code-15-nov-31-dec-2015-8881/ ]. 
LOCATION:
URL:http://srilanka-promotions.com/department-stores/lightinthebox-15-off-150-spend-storewide-coupon-code-15-nov-31-dec-2015-8881/
END:VEVENT
END:VCALENDAR