BEGIN:VCALENDAR
PRODID:-//Sri Lanka Promotions//NONSGML v1.0//EN
VERSION:2.0
CALSCALE:GREGORIAN
METHOD:PUBLISH
X-WR-CALNAME:Sri Lanka Promotions
X-ORIGINAL-URL:http://srilanka-promotions.com
X-WR-CALDESC:Events for Sri Lanka Promotions
BEGIN:VEVENT
DTSTART:20151128T000000
DTEND:20151130T235900
DTSTAMP:20260419T181534
CREATED:20151115T015823
LAST-MODIFIED:20151115T112012
UID:8897@http://srilanka-promotions.com
SUMMARY:MiniInTheBox US$5 OFF US$42 Spend Storewide Cyber Monday Coupon Code 28 - 30 Nov 2015
DESCRIPTION:Get US$5 OFF when you make a minimum purchase of US$42. FREE *worldwide* shipping.. For more information, visit [ http://srilanka-promotions.com/department-stores/miniinthebox-us5-off-us42-spend-storewide-cyber-monday-coupon-code-28-30-nov-2015-8897/ ]. 
LOCATION:
URL:http://srilanka-promotions.com/department-stores/miniinthebox-us5-off-us42-spend-storewide-cyber-monday-coupon-code-28-30-nov-2015-8897/
END:VEVENT
END:VCALENDAR