BEGIN:VCALENDAR
PRODID:-//Sri Lanka Promotions//NONSGML v1.0//EN
VERSION:2.0
CALSCALE:GREGORIAN
METHOD:PUBLISH
X-WR-CALNAME:Sri Lanka Promotions
X-ORIGINAL-URL:http://srilanka-promotions.com
X-WR-CALDESC:Events for Sri Lanka Promotions
BEGIN:VEVENT
DTSTART:20151129T000000
DTEND:20151130T235900
DTSTAMP:20260421T053347
CREATED:20151129T141009
LAST-MODIFIED:20151129T141009
UID:8975@http://srilanka-promotions.com
SUMMARY:Panasonic Up To 60% Off Home & Personal Electronics 24hr Promo 29 - 30 Nov 2015
DESCRIPTION:Get up to 60% Off Select Panasonic Electronics For Home & Personal with Amazon's Black Friday 24hr Gold Box deal. For more information, visit [ http://srilanka-promotions.com/personal-care/panasonic-up-to-60-off-home-personal-electronics-24hr-promo-29-30-nov-2015-8975/ ]. 
LOCATION:
URL:http://srilanka-promotions.com/personal-care/panasonic-up-to-60-off-home-personal-electronics-24hr-promo-29-30-nov-2015-8975/
END:VEVENT
END:VCALENDAR