BEGIN:VCALENDAR
PRODID:-//Sri Lanka Promotions//NONSGML v1.0//EN
VERSION:2.0
CALSCALE:GREGORIAN
METHOD:PUBLISH
X-WR-CALNAME:Sri Lanka Promotions
X-ORIGINAL-URL:http://srilanka-promotions.com
X-WR-CALDESC:Events for Sri Lanka Promotions
BEGIN:VEVENT
DTSTART:20160101T000000
DTEND:20160331T235900
DTSTAMP:20260421T053437
CREATED:20160217T014838
LAST-MODIFIED:20160304T204659
UID:9004@http://srilanka-promotions.com
SUMMARY:LightInTheBox US$30 OFF US$300 Spend Storewide Coupon Code 1 Jan - 31 Mar 2016
DESCRIPTION:Get US$30 off when you make a minimum purchase of US$300 at LightInTheBox. For more information, visit [ http://srilanka-promotions.com/department-stores/lightinthebox-us30-off-us300-spend-storewide-coupon-code-1-jan-31-mar-2016-9004/ ]. 
LOCATION:
URL:http://srilanka-promotions.com/department-stores/lightinthebox-us30-off-us300-spend-storewide-coupon-code-1-jan-31-mar-2016-9004/
END:VEVENT
END:VCALENDAR