BEGIN:VCALENDAR
PRODID:-//Sri Lanka Promotions//NONSGML v1.0//EN
VERSION:2.0
CALSCALE:GREGORIAN
METHOD:PUBLISH
X-WR-CALNAME:Sri Lanka Promotions
X-ORIGINAL-URL:http://srilanka-promotions.com
X-WR-CALDESC:Events for Sri Lanka Promotions
BEGIN:VEVENT
DTSTART:20160101T000000
DTEND:20160331T235900
DTSTAMP:20260421T053813
CREATED:20160217T014807
LAST-MODIFIED:20160304T204722
UID:9008@http://srilanka-promotions.com
SUMMARY:MiniInTheBox US$20 OFF US$200 Spend Storewide Coupon Code 1 Jan - 31 Mar 2016
DESCRIPTION:Get US$20 OFF when you make a minimum purchase of US$200. FREE *worldwide* shipping.. For more information, visit [ http://srilanka-promotions.com/department-stores/miniinthebox-us20-off-us200-spend-storewide-coupon-code-1-jan-31-mar-2016-9008/ ]. 
LOCATION:
URL:http://srilanka-promotions.com/department-stores/miniinthebox-us20-off-us200-spend-storewide-coupon-code-1-jan-31-mar-2016-9008/
END:VEVENT
END:VCALENDAR