BEGIN:VCALENDAR
PRODID:-//Sri Lanka Promotions//NONSGML v1.0//EN
VERSION:2.0
CALSCALE:GREGORIAN
METHOD:PUBLISH
X-WR-CALNAME:Sri Lanka Promotions
X-ORIGINAL-URL:http://srilanka-promotions.com
X-WR-CALDESC:Events for Sri Lanka Promotions
BEGIN:VEVENT
DTSTART:20160101T000000
DTEND:20160331T235900
DTSTAMP:20260421T005842
CREATED:20160217T014805
LAST-MODIFIED:20160304T204727
UID:9009@http://srilanka-promotions.com
SUMMARY:MiniInTheBox US$10 OFF US$100 Spend Storewide Coupon Code 1 Jan - 31 Mar 2016
DESCRIPTION:Get US$10 OFF when you make a minimum purchase of US$100. FREE *worldwide* shipping.. For more information, visit [ http://srilanka-promotions.com/department-stores/miniinthebox-us10-off-us100-spend-storewide-coupon-code-1-jan-31-mar-2016-9009/ ]. 
LOCATION:
URL:http://srilanka-promotions.com/department-stores/miniinthebox-us10-off-us100-spend-storewide-coupon-code-1-jan-31-mar-2016-9009/
END:VEVENT
END:VCALENDAR