BEGIN:VCALENDAR
PRODID:-//Sri Lanka Promotions//NONSGML v1.0//EN
VERSION:2.0
CALSCALE:GREGORIAN
METHOD:PUBLISH
X-WR-CALNAME:Sri Lanka Promotions
X-ORIGINAL-URL:http://srilanka-promotions.com
X-WR-CALDESC:Events for Sri Lanka Promotions
BEGIN:VEVENT
DTSTART:20160101T000000
DTEND:20160331T235900
DTSTAMP:20260421T053623
CREATED:20160217T014803
LAST-MODIFIED:20160217T115302
UID:9010@http://srilanka-promotions.com
SUMMARY:MiniInTheBox US$5 OFF US$50 Spend Storewide Coupon Code 1 Jan - 31 Mar 2016
DESCRIPTION:Get US$5 OFF when you make a minimum purchase of US$50. FREE *worldwide* shipping.. For more information, visit [ http://srilanka-promotions.com/department-stores/miniinthebox-us5-off-us50-spend-storewide-coupon-code-1-jan-31-mar-2016-9010/ ]. 
LOCATION:
URL:http://srilanka-promotions.com/department-stores/miniinthebox-us5-off-us50-spend-storewide-coupon-code-1-jan-31-mar-2016-9010/
END:VEVENT
END:VCALENDAR