BEGIN:VCALENDAR
PRODID:-//Sri Lanka Promotions//NONSGML v1.0//EN
VERSION:2.0
CALSCALE:GREGORIAN
METHOD:PUBLISH
X-WR-CALNAME:Sri Lanka Promotions
X-ORIGINAL-URL:http://srilanka-promotions.com
X-WR-CALDESC:Events for Sri Lanka Promotions
BEGIN:VEVENT
DTSTART:20160608T000000
DTEND:20160622T235900
DTSTAMP:20260419T234411
CREATED:20160618T221805
LAST-MODIFIED:20160618T221805
UID:9134@http://srilanka-promotions.com
SUMMARY:GOG.com Summer Sale up to 90% Off PC Games from 8 - 22 Jun 2016
DESCRIPTION:Grab deals up to 90% off and earn free games at GOG.com's summer sale. For more information, visit [ http://srilanka-promotions.com/news/gog-com-summer-sale-up-to-90-off-pc-games-from-8-22-jun-2016-9134/ ]. 
LOCATION:
URL:http://srilanka-promotions.com/news/gog-com-summer-sale-up-to-90-off-pc-games-from-8-22-jun-2016-9134/
END:VEVENT
END:VCALENDAR