BEGIN:VCALENDAR
PRODID:-//Sri Lanka Promotions//NONSGML v1.0//EN
VERSION:2.0
CALSCALE:GREGORIAN
METHOD:PUBLISH
X-WR-CALNAME:Sri Lanka Promotions
X-ORIGINAL-URL:http://srilanka-promotions.com
X-WR-CALDESC:Events for Sri Lanka Promotions
BEGIN:VEVENT
DTSTART:20161206T000000
DTEND:20170131T235900
DTSTAMP:20260423T023728
CREATED:20170101T052406
LAST-MODIFIED:20170202T010019
UID:9278@http://srilanka-promotions.com
SUMMARY:Bitdefender 50% Off Discount Coupon Code Promo from 6 Dec 2016 - 31 Jan 2017
DESCRIPTION:Bitdefender is offering a 50% Off promotion when you apply the below coupon code. Hundreds of millions of computer users worldwide rely on Bitdefender Antivirus Solutions to stay safe from malware and privacy invaders. For more information, visit [ http://srilanka-promotions.com/computers-accessories-software/bitdefender-50-off-discount-coupon-code-promo-from-6-dec-2016-31-jan-2017-9278/ ]. 
LOCATION:
URL:http://srilanka-promotions.com/computers-accessories-software/bitdefender-50-off-discount-coupon-code-promo-from-6-dec-2016-31-jan-2017-9278/
END:VEVENT
END:VCALENDAR