BEGIN:VCALENDAR
PRODID:-//Sri Lanka Promotions//NONSGML v1.0//EN
VERSION:2.0
CALSCALE:GREGORIAN
METHOD:PUBLISH
X-WR-CALNAME:Sri Lanka Promotions
X-ORIGINAL-URL:http://srilanka-promotions.com
X-WR-CALDESC:Events for Sri Lanka Promotions
BEGIN:VEVENT
DTSTART:20181121T000000
DTEND:20181127T235900
DTSTAMP:20260423T020510
CREATED:20181121T194408
LAST-MODIFIED:20181121T194408
UID:9325@http://srilanka-promotions.com
SUMMARY:GOG.com 500+ deals up to 90% off Black Friday x Cyber Monday sale now on till 27 November 2018
DESCRIPTION:500+ deals up to 90% off. For more information, visit [ http://srilanka-promotions.com/computers-accessories-software/gog-com-500-deals-up-to-90-off-black-friday-x-cyber-monday-sale-now-on-till-27-november-2018-9325/ ]. 
LOCATION:
URL:http://srilanka-promotions.com/computers-accessories-software/gog-com-500-deals-up-to-90-off-black-friday-x-cyber-monday-sale-now-on-till-27-november-2018-9325/
END:VEVENT
END:VCALENDAR