BEGIN:VCALENDAR
PRODID:-//Sri Lanka Promotions//NONSGML v1.0//EN
VERSION:2.0
CALSCALE:GREGORIAN
METHOD:PUBLISH
X-WR-CALNAME:Sri Lanka Promotions
X-ORIGINAL-URL:http://srilanka-promotions.com
X-WR-CALDESC:Events for Sri Lanka Promotions
BEGIN:VEVENT
DTSTART:20181123T000000
DTEND:20181127T235900
DTSTAMP:20260420T011440
CREATED:20181122T223807
LAST-MODIFIED:20181122T223807
UID:9330@http://srilanka-promotions.com
SUMMARY:Steam 2018 Autumn Sale now on till 27 November 2018
DESCRIPTION:The 2018 Steam Autumn Sale is here!. For more information, visit [ http://srilanka-promotions.com/computers-accessories-software/steam-2018-autumn-sale-now-on-till-27-november-2018-9330/ ]. 
LOCATION:
URL:http://srilanka-promotions.com/computers-accessories-software/steam-2018-autumn-sale-now-on-till-27-november-2018-9330/
END:VEVENT
END:VCALENDAR