BEGIN:VCALENDAR
PRODID:-//Sri Lanka Promotions//NONSGML v1.0//EN
VERSION:2.0
CALSCALE:GREGORIAN
METHOD:PUBLISH
X-WR-CALNAME:Sri Lanka Promotions
X-ORIGINAL-URL:http://srilanka-promotions.com
X-WR-CALDESC:Events for Sri Lanka Promotions
BEGIN:VEVENT
DTSTART:20181101T000000
DTEND:20190512T235900
DTSTAMP:20260423T020611
CREATED:20181129T164351
LAST-MODIFIED:20190517T101752
UID:9333@http://srilanka-promotions.com
SUMMARY:Digital Ocean Cloud Web Hosting: Start a Virtual Machine from just US$5/mth + get FREE US$100 credit!
DESCRIPTION:More than just VPS hosting, get started with DigitalOcean's all-in-one cloud platform with a free US$100/60-day credit for new DigitalOcean users!. For more information, visit [ http://srilanka-promotions.com/computers-accessories-software/digital-ocean-cloud-web-hosting-start-a-virtual-machine-from-just-us5-mth-get-free-us100-credit-9333/ ]. 
LOCATION:
URL:http://srilanka-promotions.com/computers-accessories-software/digital-ocean-cloud-web-hosting-start-a-virtual-machine-from-just-us5-mth-get-free-us100-credit-9333/
END:VEVENT
END:VCALENDAR