BEGIN:VCALENDAR
PRODID:-//Sri Lanka Promotions//NONSGML v1.0//EN
VERSION:2.0
CALSCALE:GREGORIAN
METHOD:PUBLISH
X-WR-CALNAME:Sri Lanka Promotions
X-ORIGINAL-URL:http://srilanka-promotions.com
X-WR-CALDESC:Events for Sri Lanka Promotions
BEGIN:VEVENT
DTSTART:20190124T000000
DTEND:20190130T235900
DTSTAMP:20260423T040849
CREATED:20190123T224822
LAST-MODIFIED:20190123T224822
UID:9348@http://srilanka-promotions.com
SUMMARY:GOG.com Hot Sale brings sizzling deals up to 90% off till 30 Jan 2019
DESCRIPTION:Put away those mittens and unravel your scarf: the HOT SALE is here to warm you up with deals you cannot miss.. For more information, visit [ http://srilanka-promotions.com/computers-accessories-software/gog-com-hot-sale-brings-sizzling-deals-up-to-90-off-till-30-jan-2019-9348/ ]. 
LOCATION:
URL:http://srilanka-promotions.com/computers-accessories-software/gog-com-hot-sale-brings-sizzling-deals-up-to-90-off-till-30-jan-2019-9348/
END:VEVENT
END:VCALENDAR