BEGIN:VCALENDAR
PRODID:-//Sri Lanka Promotions//NONSGML v1.0//EN
VERSION:2.0
CALSCALE:GREGORIAN
METHOD:PUBLISH
X-WR-CALNAME:Sri Lanka Promotions
X-ORIGINAL-URL:http://srilanka-promotions.com
X-WR-CALDESC:Events for Sri Lanka Promotions
BEGIN:VEVENT
DTSTART:20190218T000000
DTEND:20190225T235900
DTSTAMP:20260423T040940
CREATED:20190218T203323
LAST-MODIFIED:20190218T203323
UID:9351@http://srilanka-promotions.com
SUMMARY:GOG.com: Up to 85% off on over 200+ games (Bethesda, Ubisoft, CD Projeckt Red, EA & more) till 25 Feb 2019
DESCRIPTION:Celebrate the Year of the Pig by indulging in 200+ wondrous deals up to 85% off!. For more information, visit [ http://srilanka-promotions.com/computers-accessories-software/gog-com-up-to-85-off-on-over-200-games-bethesda-ubisoft-cd-projeckt-red-ea-more-till-25-feb-2019-9351/ ]. 
LOCATION:
URL:http://srilanka-promotions.com/computers-accessories-software/gog-com-up-to-85-off-on-over-200-games-bethesda-ubisoft-cd-projeckt-red-ea-more-till-25-feb-2019-9351/
END:VEVENT
END:VCALENDAR