BEGIN:VCALENDAR
PRODID:-//Sri Lanka Promotions//NONSGML v1.0//EN
VERSION:2.0
CALSCALE:GREGORIAN
METHOD:PUBLISH
X-WR-CALNAME:Sri Lanka Promotions
X-ORIGINAL-URL:http://srilanka-promotions.com
X-WR-CALDESC:Events for Sri Lanka Promotions
BEGIN:VEVENT
DTSTART:20190820T000000
DTEND:20190826T235900
DTSTAMP:20260423T040656
CREATED:20190819T213046
LAST-MODIFIED:20190819T213046
UID:9366@http://srilanka-promotions.com
SUMMARY:GOG.com's latest sale offers 250+ deals at up to 75% off till 26 August 2019
DESCRIPTION:Over 2 million community wishes have come true • 250+ deals up to -75% • Diablo + Hellfire, Warcraft I & II Bundle, Homeworld: Emergence, and more. For more information, visit [ http://srilanka-promotions.com/computers-accessories-software/gog-coms-latest-sale-offers-250-deals-at-up-to-75-off-till-26-august-2019-9366/ ]. 
LOCATION:
URL:http://srilanka-promotions.com/computers-accessories-software/gog-coms-latest-sale-offers-250-deals-at-up-to-75-off-till-26-august-2019-9366/
END:VEVENT
END:VCALENDAR