BEGIN:VCALENDAR
PRODID:-//Sri Lanka Promotions//NONSGML v1.0//EN
VERSION:2.0
CALSCALE:GREGORIAN
METHOD:PUBLISH
X-WR-CALNAME:Sri Lanka Promotions
X-ORIGINAL-URL:http://srilanka-promotions.com
X-WR-CALDESC:Events for Sri Lanka Promotions
BEGIN:VEVENT
DTSTART:20191126T000000
DTEND:20191203T235900
DTSTAMP:20260423T010014
CREATED:20191126T114915
LAST-MODIFIED:20191122T204949
UID:9374@http://srilanka-promotions.com
SUMMARY:Parallels: Save 20% off Parallels Desktop software till 3 Dec 2019
DESCRIPTION:For a limited time, get 20% off Parallels software. For more information, visit [ http://srilanka-promotions.com/computers-accessories-software/parallels-save-20-off-parallels-desktop-software-till-3-dec-2019-9374/ ]. 
LOCATION:
URL:http://srilanka-promotions.com/computers-accessories-software/parallels-save-20-off-parallels-desktop-software-till-3-dec-2019-9374/
END:VEVENT
END:VCALENDAR