BEGIN:VCALENDAR
PRODID:-//Sri Lanka Promotions//NONSGML v1.0//EN
VERSION:2.0
CALSCALE:GREGORIAN
METHOD:PUBLISH
X-WR-CALNAME:Sri Lanka Promotions
X-ORIGINAL-URL:http://srilanka-promotions.com
X-WR-CALDESC:Events for Sri Lanka Promotions
BEGIN:VEVENT
DTSTART:20201123T000000
DTEND:20201202T235900
DTSTAMP:20260421T055612
CREATED:20201123T184120
LAST-MODIFIED:20201119T184138
UID:9422@http://srilanka-promotions.com
SUMMARY:Parallels: Black Friday x Cyber Monday Sale! Save 20% off Parallels Desktop software till 2 Dec 2020
DESCRIPTION:For a limited time, get 20% off Parallels software. For more information, visit [ http://srilanka-promotions.com/computers-accessories-software/parallels-black-friday-x-cyber-monday-sale-save-20-off-parallels-desktop-software-till-2-dec-2020-9422/ ]. 
LOCATION:
URL:http://srilanka-promotions.com/computers-accessories-software/parallels-black-friday-x-cyber-monday-sale-save-20-off-parallels-desktop-software-till-2-dec-2020-9422/
END:VEVENT
END:VCALENDAR