BEGIN:VCALENDAR
PRODID:-//Sri Lanka Promotions//NONSGML v1.0//EN
VERSION:2.0
CALSCALE:GREGORIAN
METHOD:PUBLISH
X-WR-CALNAME:Sri Lanka Promotions
X-ORIGINAL-URL:http://srilanka-promotions.com
X-WR-CALDESC:Events for Sri Lanka Promotions
BEGIN:VEVENT
DTSTART:20211123T000000
DTEND:20211201T235900
DTSTAMP:20260424T104325
CREATED:20211122T235055
LAST-MODIFIED:20211122T235055
UID:9542@http://srilanka-promotions.com
SUMMARY:Parallels is offering 20% off Parallels Desktop software Black Friday sale till 1 Dec 2021
DESCRIPTION:For a limited time, get 20% off Parallels software. For more information, visit [ http://srilanka-promotions.com/computers-accessories-software/parallels-is-offering-20-off-parallels-desktop-software-black-friday-sale-till-1-dec-2021-9542/ ]. 
LOCATION:
URL:http://srilanka-promotions.com/computers-accessories-software/parallels-is-offering-20-off-parallels-desktop-software-black-friday-sale-till-1-dec-2021-9542/
END:VEVENT
END:VCALENDAR