BEGIN:VCALENDAR
PRODID:-//Sri Lanka Promotions//NONSGML v1.0//EN
VERSION:2.0
CALSCALE:GREGORIAN
METHOD:PUBLISH
X-WR-CALNAME:Sri Lanka Promotions
X-ORIGINAL-URL:http://srilanka-promotions.com
X-WR-CALDESC:Events for Sri Lanka Promotions
BEGIN:VEVENT
DTSTART:20211125T000000
DTEND:20211203T235900
DTSTAMP:20260422T221350
CREATED:20211124T234012
LAST-MODIFIED:20211124T234012
UID:9549@http://srilanka-promotions.com
SUMMARY:Acronis: Save up to 50% off Acronis Cyber Protect Home Office Black Friday promo till 3 Dec 2021
DESCRIPTION:Your data is more vulnerable than ever — and it needs protection.. For more information, visit [ http://srilanka-promotions.com/computers-accessories-software/acronis-save-up-to-50-off-acronis-cyber-protect-home-office-black-friday-promo-till-3-dec-2021-9549/ ]. 
LOCATION:
URL:http://srilanka-promotions.com/computers-accessories-software/acronis-save-up-to-50-off-acronis-cyber-protect-home-office-black-friday-promo-till-3-dec-2021-9549/
END:VEVENT
END:VCALENDAR