BEGIN:VCALENDAR
PRODID:-//Sri Lanka Promotions//NONSGML v1.0//EN
VERSION:2.0
CALSCALE:GREGORIAN
METHOD:PUBLISH
X-WR-CALNAME:Sri Lanka Promotions
X-ORIGINAL-URL:http://srilanka-promotions.com
X-WR-CALDESC:Events for Sri Lanka Promotions
BEGIN:VEVENT
DTSTART:20211222T000000
DTEND:20220112T235900
DTSTAMP:20260422T220957
CREATED:20211222T155613
LAST-MODIFIED:20211222T155613
UID:9587@http://srilanka-promotions.com
SUMMARY:Acronis: Save up to 50% off Acronis Cyber Protect Home Office promo till 12 Jan 2022
DESCRIPTION:Your data is more vulnerable than ever — and it needs protection.. For more information, visit [ http://srilanka-promotions.com/computers-accessories-software/acronis-save-up-to-50-off-acronis-cyber-protect-home-office-promo-till-12-jan-2022-9587/ ]. 
LOCATION:
URL:http://srilanka-promotions.com/computers-accessories-software/acronis-save-up-to-50-off-acronis-cyber-protect-home-office-promo-till-12-jan-2022-9587/
END:VEVENT
END:VCALENDAR