BEGIN:VCALENDAR
PRODID:-//Sri Lanka Promotions//NONSGML v1.0//EN
VERSION:2.0
CALSCALE:GREGORIAN
METHOD:PUBLISH
X-WR-CALNAME:Sri Lanka Promotions
X-ORIGINAL-URL:http://srilanka-promotions.com
X-WR-CALDESC:Events for Sri Lanka Promotions
BEGIN:VEVENT
DTSTART:20220711T000000
DTEND:20220831T235900
DTSTAMP:20260422T221206
CREATED:20220711T164727
LAST-MODIFIED:20220711T164727
UID:9735@http://srilanka-promotions.com
SUMMARY:O&O Software: 50% OFF all products (NO Min Spend) coupon code valid till August 31, 2022
DESCRIPTION:Get 50% OFF O&O Software products with the below coupon code. For more information, visit [ http://srilanka-promotions.com/computers-accessories-software/oo-software-50-off-all-products-no-min-spend-coupon-code-valid-till-august-31-2022-9735/ ]. 
LOCATION:
URL:http://srilanka-promotions.com/computers-accessories-software/oo-software-50-off-all-products-no-min-spend-coupon-code-valid-till-august-31-2022-9735/
END:VEVENT
END:VCALENDAR