BEGIN:VCALENDAR
PRODID:-//Sri Lanka Promotions//NONSGML v1.0//EN
VERSION:2.0
CALSCALE:GREGORIAN
METHOD:PUBLISH
X-WR-CALNAME:Sri Lanka Promotions
X-ORIGINAL-URL:http://srilanka-promotions.com
X-WR-CALDESC:Events for Sri Lanka Promotions
BEGIN:VEVENT
DTSTART:20220914T000000
DTEND:20220927T235900
DTSTAMP:20260422T221253
CREATED:20220914T091203
LAST-MODIFIED:20220914T091203
UID:9741@http://srilanka-promotions.com
SUMMARY:Parallels is offering 10% off Parallels Desktop software with this code valid till 27 Sep 2022
DESCRIPTION:For a limited time, get 10% off Parallels software. For more information, visit [ http://srilanka-promotions.com/computers-accessories-software/parallels-is-offering-10-off-parallels-desktop-software-with-this-code-valid-till-27-sep-2022-9741/ ]. 
LOCATION:
URL:http://srilanka-promotions.com/computers-accessories-software/parallels-is-offering-10-off-parallels-desktop-software-with-this-code-valid-till-27-sep-2022-9741/
END:VEVENT
END:VCALENDAR