BEGIN:VCALENDAR
PRODID:-//Sri Lanka Promotions//NONSGML v1.0//EN
VERSION:2.0
CALSCALE:GREGORIAN
METHOD:PUBLISH
X-WR-CALNAME:Sri Lanka Promotions
X-ORIGINAL-URL:http://srilanka-promotions.com
X-WR-CALDESC:Events for Sri Lanka Promotions
BEGIN:VEVENT
DTSTART:20221122T000000
DTEND:20221205T235900
DTSTAMP:20260420T071159
CREATED:20221122T091126
LAST-MODIFIED:20221122T091126
UID:9763@http://srilanka-promotions.com
SUMMARY:Parallels is offering 25% off Parallels Desktop software Black Friday promo till 5 Dec 2022
DESCRIPTION:For a limited time, get 25% off Parallels software. For more information, visit [ http://srilanka-promotions.com/computers-accessories-software/parallels-is-offering-25-off-parallels-desktop-software-black-friday-promo-till-5-dec-2022-9763/ ]. 
LOCATION:
URL:http://srilanka-promotions.com/computers-accessories-software/parallels-is-offering-25-off-parallels-desktop-software-black-friday-promo-till-5-dec-2022-9763/
END:VEVENT
END:VCALENDAR