BEGIN:VCALENDAR
PRODID:-//Sri Lanka Promotions//NONSGML v1.0//EN
VERSION:2.0
CALSCALE:GREGORIAN
METHOD:PUBLISH
X-WR-CALNAME:Sri Lanka Promotions
X-ORIGINAL-URL:http://srilanka-promotions.com
X-WR-CALDESC:Events for Sri Lanka Promotions
BEGIN:VEVENT
DTSTART:20221212T000000
DTEND:20230106T235900
DTSTAMP:20260422T220957
CREATED:20221212T145037
LAST-MODIFIED:20221212T145037
UID:9775@http://srilanka-promotions.com
SUMMARY:O&O Software offering 50% OFF all products (NO Min Spend) with this promo code valid till 6 Jan 2023
DESCRIPTION:Get 50% OFF O&O Software products with the below coupon code. For more information, visit [ http://srilanka-promotions.com/computers-accessories-software/oo-software-offering-50-off-all-products-no-min-spend-with-this-promo-code-valid-till-6-jan-2023-9775/ ]. 
LOCATION:
URL:http://srilanka-promotions.com/computers-accessories-software/oo-software-offering-50-off-all-products-no-min-spend-with-this-promo-code-valid-till-6-jan-2023-9775/
END:VEVENT
END:VCALENDAR