BEGIN:VCALENDAR
PRODID:-//Sri Lanka Promotions//NONSGML v1.0//EN
VERSION:2.0
CALSCALE:GREGORIAN
METHOD:PUBLISH
X-WR-CALNAME:Sri Lanka Promotions
X-ORIGINAL-URL:http://srilanka-promotions.com
X-WR-CALDESC:Events for Sri Lanka Promotions
BEGIN:VEVENT
DTSTART:20230517T000000
DTEND:20230517T235900
DTSTAMP:20260426T000703
CREATED:20230517T082953
LAST-MODIFIED:20230419T103006
UID:9838@http://srilanka-promotions.com
SUMMARY:Buy-1-Get-1-Free Big King Chicken at Burger King Sri Lanka on Wed 17 May 2023, pay only Rs. 800 each
DESCRIPTION:Available for Dine-in, Takeaway, and Delivery. For more information, visit [ http://srilanka-promotions.com/dining-restaurants-food/buy-1-get-1-free-big-king-chicken-at-burger-king-sri-lanka-on-wed-17-may-2023-pay-only-rs-800-each-9838/ ]. 
LOCATION:
URL:http://srilanka-promotions.com/dining-restaurants-food/buy-1-get-1-free-big-king-chicken-at-burger-king-sri-lanka-on-wed-17-may-2023-pay-only-rs-800-each-9838/
END:VEVENT
END:VCALENDAR