BEGIN:VCALENDAR
PRODID:-//Sri Lanka Promotions//NONSGML v1.0//EN
VERSION:2.0
CALSCALE:GREGORIAN
METHOD:PUBLISH
X-WR-CALNAME:Sri Lanka Promotions
X-ORIGINAL-URL:http://srilanka-promotions.com
X-WR-CALDESC:Events for Sri Lanka Promotions
BEGIN:VEVENT
DTSTART:20230505T000000
DTEND:20230506T235900
DTSTAMP:20260426T001333
CREATED:20230504T223645
LAST-MODIFIED:20230504T223645
UID:9856@http://srilanka-promotions.com
SUMMARY:ASOS offering 25% off almost everything including sale items with this coupon code valid till 6 May 2023, 1230pm
DESCRIPTION:Get 25% OFF at ASOS valid for a limited time only with the below coupon code.. For more information, visit [ http://srilanka-promotions.com/fashion-accessories/asos-offering-25-off-almost-everything-including-sale-items-with-this-coupon-code-valid-till-6-may-2023-1230pm-9856/ ]. 
LOCATION:
URL:http://srilanka-promotions.com/fashion-accessories/asos-offering-25-off-almost-everything-including-sale-items-with-this-coupon-code-valid-till-6-may-2023-1230pm-9856/
END:VEVENT
END:VCALENDAR