BEGIN:VCALENDAR
PRODID:-//Sri Lanka Promotions//NONSGML v1.0//EN
VERSION:2.0
CALSCALE:GREGORIAN
METHOD:PUBLISH
X-WR-CALNAME:Sri Lanka Promotions
X-ORIGINAL-URL:http://srilanka-promotions.com
X-WR-CALDESC:Events for Sri Lanka Promotions
BEGIN:VEVENT
DTSTART:20230509T000000
DTEND:20230515T235900
DTSTAMP:20260426T001252
CREATED:20230509T205912
LAST-MODIFIED:20230509T205912
UID:9860@http://srilanka-promotions.com
SUMMARY:Namecheap brings back US$1.58/mth cPanel shared web hosting deal till 15 May 2023
DESCRIPTION:Save big on the domains, hosting, and DIY business tools you need to create the blog of your dreams. For more information, visit [ http://srilanka-promotions.com/computers-accessories-software/namecheap-brings-back-us1-58-mth-cpanel-shared-web-hosting-deal-till-15-may-2023-9860/ ]. 
LOCATION:
URL:http://srilanka-promotions.com/computers-accessories-software/namecheap-brings-back-us1-58-mth-cpanel-shared-web-hosting-deal-till-15-may-2023-9860/
END:VEVENT
END:VCALENDAR