BEGIN:VCALENDAR
PRODID:-//Sri Lanka Promotions//NONSGML v1.0//EN
VERSION:2.0
CALSCALE:GREGORIAN
METHOD:PUBLISH
X-WR-CALNAME:Sri Lanka Promotions
X-ORIGINAL-URL:https://srilanka-promotions.com
X-WR-CALDESC:Events for Sri Lanka Promotions
BEGIN:VEVENT
DTSTART:20230922T000000
DTEND:20231001T235900
DTSTAMP:20260419T165747
CREATED:20230914T152158
LAST-MODIFIED:20230914T152158
UID:10028@https://srilanka-promotions.com
SUMMARY:Colombo International Book Fair 2023 is happening from 22 Sep - 1 Oct 2023
DESCRIPTION:CIBF is Sri Lanka's best attended and largest consumer Book Fair visited by millions of people during the nine days encompassing two weekends.. For more information, visit [ https://srilanka-promotions.com/happenings/colombo-international-book-fair-2023-is-happening-from-22-sep-1-oct-2023-10028/ ]. 
LOCATION:
URL:https://srilanka-promotions.com/happenings/colombo-international-book-fair-2023-is-happening-from-22-sep-1-oct-2023-10028/
END:VEVENT
END:VCALENDAR