BEGIN:VCALENDAR
PRODID:-//Sri Lanka Promotions//NONSGML v1.0//EN
VERSION:2.0
CALSCALE:GREGORIAN
METHOD:PUBLISH
X-WR-CALNAME:Sri Lanka Promotions
X-ORIGINAL-URL:https://srilanka-promotions.com
X-WR-CALDESC:Events for Sri Lanka Promotions
BEGIN:VEVENT
DTSTART:20231101T000000
DTEND:20231130T235900
DTSTAMP:20260423T151022
CREATED:20231102T182150
LAST-MODIFIED:20231102T182224
UID:10138@https://srilanka-promotions.com
SUMMARY:Pizza Hut Sri Lanka offering up to Rs. 1000 off your orders made online till 30 Nov 2023
DESCRIPTION:Cyber savings from Pizza Hut. For more information, visit [ https://srilanka-promotions.com/dining-restaurants-food/pizza-hut-sri-lanka-offering-up-to-rs-1000-off-your-orders-made-online-till-30-nov-2023-10138/ ]. 
LOCATION:
URL:https://srilanka-promotions.com/dining-restaurants-food/pizza-hut-sri-lanka-offering-up-to-rs-1000-off-your-orders-made-online-till-30-nov-2023-10138/
END:VEVENT
END:VCALENDAR