BEGIN:VCALENDAR
PRODID:-//Sri Lanka Promotions//NONSGML v1.0//EN
VERSION:2.0
CALSCALE:GREGORIAN
METHOD:PUBLISH
X-WR-CALNAME:Sri Lanka Promotions
X-ORIGINAL-URL:https://srilanka-promotions.com
X-WR-CALDESC:Events for Sri Lanka Promotions
BEGIN:VEVENT
DTSTART:20231121T000000
DTEND:20231205T235900
DTSTAMP:20260422T100658
CREATED:20231121T014126
LAST-MODIFIED:20231120T234139
UID:10196@https://srilanka-promotions.com
SUMMARY:Parallels offering 25% off on all Parallels Desktop products Black Friday promo at the official estore till 5 Dec 2023
DESCRIPTION:For a limited time, get 25% off Parallels software. For more information, visit [ https://srilanka-promotions.com/computers-accessories-software/parallels-offering-25-off-on-all-parallels-desktop-products-black-friday-promo-at-the-official-estore-till-5-dec-2023-10196/ ]. 
LOCATION:
URL:https://srilanka-promotions.com/computers-accessories-software/parallels-offering-25-off-on-all-parallels-desktop-products-black-friday-promo-at-the-official-estore-till-5-dec-2023-10196/
END:VEVENT
END:VCALENDAR