BEGIN:VCALENDAR
PRODID:-//Sri Lanka Promotions//NONSGML v1.0//EN
VERSION:2.0
CALSCALE:GREGORIAN
METHOD:PUBLISH
X-WR-CALNAME:Sri Lanka Promotions
X-ORIGINAL-URL:https://srilanka-promotions.com
X-WR-CALDESC:Events for Sri Lanka Promotions
BEGIN:VEVENT
DTSTART:20231231T000000
DTEND:20231231T235900
DTSTAMP:20260422T202211
CREATED:20231231T103439
LAST-MODIFIED:20231231T103439
UID:10251@https://srilanka-promotions.com
SUMMARY:Pizza Hut Sri Lanka has BUY 1 GET 1 FREE offer on New Year's Eve, 31 Dec 2023
DESCRIPTION:Valid for DINE-IN orders. DELIVERY & TAKEAWAY at an extra charge of Rs300.. For more information, visit [ https://srilanka-promotions.com/dining-restaurants-food/pizza-hut-sri-lanka-has-buy-1-get-1-free-offer-on-new-years-eve-31-dec-2023-10251/ ]. 
LOCATION:
URL:https://srilanka-promotions.com/dining-restaurants-food/pizza-hut-sri-lanka-has-buy-1-get-1-free-offer-on-new-years-eve-31-dec-2023-10251/
END:VEVENT
END:VCALENDAR