BEGIN:VCALENDAR
PRODID:-//Sri Lanka Promotions//NONSGML v1.0//EN
VERSION:2.0
CALSCALE:GREGORIAN
METHOD:PUBLISH
X-WR-CALNAME:Sri Lanka Promotions
X-ORIGINAL-URL:https://srilanka-promotions.com
X-WR-CALDESC:Events for Sri Lanka Promotions
BEGIN:VEVENT
DTSTART:20240212T000000
DTEND:20240212T235900
DTSTAMP:20260423T163318
CREATED:20240212T102727
LAST-MODIFIED:20240212T103029
UID:10368@https://srilanka-promotions.com
SUMMARY:KFC Sri Lanka offering Buy-1-Get-1-Free 8pc chicken bucket on Monday, 12 Feb 2024
DESCRIPTION:Valid for dine-in, takeaway and delivery. For more information, visit [ https://srilanka-promotions.com/dining-restaurants-food/kfc-sri-lanka-offering-buy-1-get-1-free-8pc-chicken-bucket-on-monday-12-feb-2024-10368/ ]. 
LOCATION:
URL:https://srilanka-promotions.com/dining-restaurants-food/kfc-sri-lanka-offering-buy-1-get-1-free-8pc-chicken-bucket-on-monday-12-feb-2024-10368/
END:VEVENT
END:VCALENDAR