BEGIN:VCALENDAR
PRODID:-//Sri Lanka Promotions//NONSGML v1.0//EN
VERSION:2.0
CALSCALE:GREGORIAN
METHOD:PUBLISH
X-WR-CALNAME:Sri Lanka Promotions
X-ORIGINAL-URL:https://srilanka-promotions.com
X-WR-CALDESC:Events for Sri Lanka Promotions
BEGIN:VEVENT
DTSTART:20240214T000000
DTEND:20240214T235900
DTSTAMP:20260424T175528
CREATED:20240214T105626
LAST-MODIFIED:20240214T105626
UID:10372@https://srilanka-promotions.com
SUMMARY:KFC Sri Lanka has Rs. 3,900 10pc KFC Chicken Bucket + 4 Biriyani Pilaf Rice deal for ONE-DAY only on Wed, 14 Feb 2024
DESCRIPTION:Treat yourself to some delicious KFC chicken, seasoned with their secret blend of herbs and spices. For more information, visit [ https://srilanka-promotions.com/dining-restaurants-food/kfc-sri-lanka-has-rs-3900-10pc-kfc-chicken-bucket-4-biriyani-pilaf-rice-deal-for-one-day-only-on-wed-14-feb-2024-10372/ ]. 
LOCATION:
URL:https://srilanka-promotions.com/dining-restaurants-food/kfc-sri-lanka-has-rs-3900-10pc-kfc-chicken-bucket-4-biriyani-pilaf-rice-deal-for-one-day-only-on-wed-14-feb-2024-10372/
END:VEVENT
END:VCALENDAR