BEGIN:VCALENDAR
PRODID:-//Sri Lanka Promotions//NONSGML v1.0//EN
VERSION:2.0
CALSCALE:GREGORIAN
METHOD:PUBLISH
X-WR-CALNAME:Sri Lanka Promotions
X-ORIGINAL-URL:https://srilanka-promotions.com
X-WR-CALDESC:Events for Sri Lanka Promotions
BEGIN:VEVENT
DTSTART:20240226T000000
DTEND:20240227T235900
DTSTAMP:20260423T104440
CREATED:20240226T125716
LAST-MODIFIED:20240226T125716
UID:10405@https://srilanka-promotions.com
SUMMARY:KFC LK offering Rs. 3,590 Super Savoury Sawan meal deal for takeaway and delivery till 27 Feb 2024
DESCRIPTION:Time for you to dive into KFC's delicious Savoury Sawan. For more information, visit [ https://srilanka-promotions.com/dining-restaurants-food/kfc-lk-offering-rs-3590-super-savoury-sawan-meal-deal-for-takeaway-and-delivery-till-27-feb-2024-10405/ ]. 
LOCATION:
URL:https://srilanka-promotions.com/dining-restaurants-food/kfc-lk-offering-rs-3590-super-savoury-sawan-meal-deal-for-takeaway-and-delivery-till-27-feb-2024-10405/
END:VEVENT
END:VCALENDAR