BEGIN:VCALENDAR
PRODID:-//Sri Lanka Promotions//NONSGML v1.0//EN
VERSION:2.0
CALSCALE:GREGORIAN
METHOD:PUBLISH
X-WR-CALNAME:Sri Lanka Promotions
X-ORIGINAL-URL:https://srilanka-promotions.com
X-WR-CALDESC:Events for Sri Lanka Promotions
BEGIN:VEVENT
DTSTART:20240311T000000
DTEND:20240314T235900
DTSTAMP:20260419T195625
CREATED:20240312T113013
LAST-MODIFIED:20240311T153038
UID:10445@https://srilanka-promotions.com
SUMMARY:IHG offering 25% off and 3x points for hotels in Australia, NZ and South Pacific till 14 Mar, for stays up to 31 July
DESCRIPTION:Make your dream a reality. For more information, visit [ https://srilanka-promotions.com/vacations/ihg-offering-25-off-and-3x-points-for-hotels-in-australia-nz-and-south-pacific-till-14-mar-for-stays-up-to-31-july-10445/ ]. 
LOCATION:
URL:https://srilanka-promotions.com/vacations/ihg-offering-25-off-and-3x-points-for-hotels-in-australia-nz-and-south-pacific-till-14-mar-for-stays-up-to-31-july-10445/
END:VEVENT
END:VCALENDAR