BEGIN:VCALENDAR
PRODID:-//Sri Lanka Promotions//NONSGML v1.0//EN
VERSION:2.0
CALSCALE:GREGORIAN
METHOD:PUBLISH
X-WR-CALNAME:Sri Lanka Promotions
X-ORIGINAL-URL:https://srilanka-promotions.com
X-WR-CALDESC:Events for Sri Lanka Promotions
BEGIN:VEVENT
DTSTART:20240322T000000
DTEND:20240324T235900
DTSTAMP:20260421T100724
CREATED:20240322T115437
LAST-MODIFIED:20240322T115437
UID:10481@https://srilanka-promotions.com
SUMMARY:Pizza Hut Sri Lanka Weekend Vibes promo offers Rs. 1,000 off when you buy 1 Large Pan Pizza till 24 Mar 2024
DESCRIPTION:Score a delicious deal with Rs. 1,000 off on Large Pan Pizzas. For more information, visit [ https://srilanka-promotions.com/dining-restaurants-food/pizza-hut-sri-lanka-weekend-vibes-promo-offers-rs-1000-off-when-you-buy-1-large-pan-pizza-till-24-mar-2024-10481/ ]. 
LOCATION:
URL:https://srilanka-promotions.com/dining-restaurants-food/pizza-hut-sri-lanka-weekend-vibes-promo-offers-rs-1000-off-when-you-buy-1-large-pan-pizza-till-24-mar-2024-10481/
END:VEVENT
END:VCALENDAR