BEGIN:VCALENDAR
PRODID:-//Sri Lanka Promotions//NONSGML v1.0//EN
VERSION:2.0
CALSCALE:GREGORIAN
METHOD:PUBLISH
X-WR-CALNAME:Sri Lanka Promotions
X-ORIGINAL-URL:https://srilanka-promotions.com
X-WR-CALDESC:Events for Sri Lanka Promotions
BEGIN:VEVENT
DTSTART:20240327T000000
DTEND:20240327T235900
DTSTAMP:20260425T135612
CREATED:20240327T104653
LAST-MODIFIED:20240327T104653
UID:10494@https://srilanka-promotions.com
SUMMARY:Savour KFC Sri Lanka's Wednesday Feast: Rs. 3,900 10pc Chicken & Pilaf Rice on Wed, 27 March 2024
DESCRIPTION:Indulge in KFC's Wednesday special with a bucket and biriyani, all at a great price!. For more information, visit [ https://srilanka-promotions.com/dining-restaurants-food/savour-kfc-sri-lankas-wednesday-feast-rs-3900-10pc-chicken-pilaf-rice-on-wed-27-march-2024-10494/ ]. 
LOCATION:
URL:https://srilanka-promotions.com/dining-restaurants-food/savour-kfc-sri-lankas-wednesday-feast-rs-3900-10pc-chicken-pilaf-rice-on-wed-27-march-2024-10494/
END:VEVENT
END:VCALENDAR