BEGIN:VCALENDAR
PRODID:-//Sri Lanka Promotions//NONSGML v1.0//EN
VERSION:2.0
CALSCALE:GREGORIAN
METHOD:PUBLISH
X-WR-CALNAME:Sri Lanka Promotions
X-ORIGINAL-URL:https://srilanka-promotions.com
X-WR-CALDESC:Events for Sri Lanka Promotions
BEGIN:VEVENT
DTSTART:20240410T000000
DTEND:20240410T235900
DTSTAMP:20260422T161301
CREATED:20240410T104516
LAST-MODIFIED:20240410T104516
UID:10552@https://srilanka-promotions.com
SUMMARY:KFC Sri Lanka's Special Wednesday Offer: 8pc Chicken for Rs. 2,990 on 10 April 2024
DESCRIPTION:Indulge in KFC Sri Lanka's Wednesday special - 8 pieces of Hot & Crispy Chicken at a steal. For more information, visit [ https://srilanka-promotions.com/dining-restaurants-food/kfc-sri-lankas-special-wednesday-offer-8pc-chicken-for-rs-2990-on-10-april-2024-10552/ ]. 
LOCATION:
URL:https://srilanka-promotions.com/dining-restaurants-food/kfc-sri-lankas-special-wednesday-offer-8pc-chicken-for-rs-2990-on-10-april-2024-10552/
END:VEVENT
END:VCALENDAR