BEGIN:VCALENDAR
PRODID:-//Sri Lanka Promotions//NONSGML v1.0//EN
VERSION:2.0
CALSCALE:GREGORIAN
METHOD:PUBLISH
X-WR-CALNAME:Sri Lanka Promotions
X-ORIGINAL-URL:https://srilanka-promotions.com
X-WR-CALDESC:Events for Sri Lanka Promotions
BEGIN:VEVENT
DTSTART:20120710T000000
DTEND:20120731T235900
DTSTAMP:20260420T191256
CREATED:20120710T143310
LAST-MODIFIED:20120710T192711
UID:1056@https://srilanka-promotions.com
SUMMARY:KFC Sri Lanka Tuesdays Special Promotion 10 - 31 Jul 2012
DESCRIPTION:KFC Sri Lanka is having a special promotion on Tuesdays for the month of July 2012. Buy a 2pc Chicken meal or a Zinger Burger meal at a special price of just Rs 300.. For more information, visit [ https://srilanka-promotions.com/dining-restaurants-food/kfc-sri-lanka-tuesdays-special-promotion-10-31-jul-2012-1056/ ]. 
LOCATION:
URL:https://srilanka-promotions.com/dining-restaurants-food/kfc-sri-lanka-tuesdays-special-promotion-10-31-jul-2012-1056/
END:VEVENT
END:VCALENDAR