BEGIN:VCALENDAR
PRODID:-//Sri Lanka Promotions//NONSGML v1.0//EN
VERSION:2.0
CALSCALE:GREGORIAN
METHOD:PUBLISH
X-WR-CALNAME:Sri Lanka Promotions
X-ORIGINAL-URL:https://srilanka-promotions.com
X-WR-CALDESC:Events for Sri Lanka Promotions
BEGIN:VEVENT
DTSTART:20240419T000000
DTEND:20240421T235900
DTSTAMP:20260421T174149
CREATED:20240419T142702
LAST-MODIFIED:20240419T142702
UID:10576@https://srilanka-promotions.com
SUMMARY:Pizza Hut Sri Lanka's "Weekend Vibes" Deal Offers Up to Rs. 2,000 Off till 21 April 2024
DESCRIPTION:Savour the "Weekend Vibes" at Pizza Hut with Hefty Discounts on Your Favourite Pizzas. For more information, visit [ https://srilanka-promotions.com/dining-restaurants-food/pizza-hut-sri-lankas-weekend-vibes-deal-offers-up-to-rs-2000-off-till-21-april-2024-10576/ ]. 
LOCATION:
URL:https://srilanka-promotions.com/dining-restaurants-food/pizza-hut-sri-lankas-weekend-vibes-deal-offers-up-to-rs-2000-off-till-21-april-2024-10576/
END:VEVENT
END:VCALENDAR