BEGIN:VCALENDAR
PRODID:-//Sri Lanka Promotions//NONSGML v1.0//EN
VERSION:2.0
CALSCALE:GREGORIAN
METHOD:PUBLISH
X-WR-CALNAME:Sri Lanka Promotions
X-ORIGINAL-URL:https://srilanka-promotions.com
X-WR-CALDESC:Events for Sri Lanka Promotions
BEGIN:VEVENT
DTSTART:20120710T000000
DTEND:20120731T235900
DTSTAMP:20260420T234636
CREATED:20120710T192615
LAST-MODIFIED:20120710T192751
UID:1060@https://srilanka-promotions.com
SUMMARY:KFC Sri Lanka Special Tuesdays Delivery Meal Set 10 - 31 Jul 2012
DESCRIPTION:KFC Sri Lanka is offering a special combo meal, valid only for delivery on Tuesdays. Buy a 2pc Chicken Meal with a 500ml Pepsi bottle included at a special price of just Rs 300.. For more information, visit [ https://srilanka-promotions.com/dining-restaurants-food/kfc-sri-lanka-special-tuesdays-delivery-meal-set-10-31-jul-2012-1060/ ]. 
LOCATION:
URL:https://srilanka-promotions.com/dining-restaurants-food/kfc-sri-lanka-special-tuesdays-delivery-meal-set-10-31-jul-2012-1060/
END:VEVENT
END:VCALENDAR