BEGIN:VCALENDAR
PRODID:-//Sri Lanka Promotions//NONSGML v1.0//EN
VERSION:2.0
CALSCALE:GREGORIAN
METHOD:PUBLISH
X-WR-CALNAME:Sri Lanka Promotions
X-ORIGINAL-URL:https://srilanka-promotions.com
X-WR-CALDESC:Events for Sri Lanka Promotions
BEGIN:VEVENT
DTSTART:20240512T000000
DTEND:20240512T235900
DTSTAMP:20260424T093514
CREATED:20240511T154813
LAST-MODIFIED:20240511T154813
UID:10653@https://srilanka-promotions.com
SUMMARY:Burger King Sri Lanka Offers 30% Discount on Burgers for Mother's Day on 12 May 2024
DESCRIPTION:Special Mother's Day promotion. For more information, visit [ https://srilanka-promotions.com/dining-restaurants-food/burger-king-sri-lanka-offers-30-discount-on-burgers-for-mothers-day-on-12-may-2024-10653/ ]. 
LOCATION:
URL:https://srilanka-promotions.com/dining-restaurants-food/burger-king-sri-lanka-offers-30-discount-on-burgers-for-mothers-day-on-12-may-2024-10653/
END:VEVENT
END:VCALENDAR