BEGIN:VCALENDAR
PRODID:-//Sri Lanka Promotions//NONSGML v1.0//EN
VERSION:2.0
CALSCALE:GREGORIAN
METHOD:PUBLISH
X-WR-CALNAME:Sri Lanka Promotions
X-ORIGINAL-URL:https://srilanka-promotions.com
X-WR-CALDESC:Events for Sri Lanka Promotions
BEGIN:VEVENT
DTSTART:20240603T000000
DTEND:20240604T235900
DTSTAMP:20260424T033952
CREATED:20240603T114815
LAST-MODIFIED:20240604T154104
UID:10733@https://srilanka-promotions.com
SUMMARY:KFC Sri Lanka Selling Rs. 3,590 Sawan Biriyani Feast till 4 June 2024
DESCRIPTION:A feast of flavours. For more information, visit [ https://srilanka-promotions.com/dining-restaurants-food/kfc-sri-lanka-selling-rs-3590-sawan-biriyani-feast-till-4-june-2024-10733/ ]. 
LOCATION:
URL:https://srilanka-promotions.com/dining-restaurants-food/kfc-sri-lanka-selling-rs-3590-sawan-biriyani-feast-till-4-june-2024-10733/
END:VEVENT
END:VCALENDAR